BEGIN:VCALENDAR
VERSION:2.0
PRODID:icalendar-ruby
CALSCALE:GREGORIAN
METHOD:PUBLISH
BEGIN:VEVENT
DTSTAMP:20260424T144938Z
UID:96-768176@click2celebrate.com
DTSTART:20260506T163000Z
DTEND:20260506T180000Z
CLASS:PUBLIC
CREATED:20260420T124441
DESCRIPTION:May's Lunch Bunch gathering is on Wednesday\, May 6\, at Lazy D
 og\, 20030 NW Fwy (near the corner of 290 and FM 1960). All are welcome to
  meet at the restaurant at 11:30 AM and enjoy lunch and conversation. Plea
 se RSVP via email to info@click2celebrate.com so we'll know to save a seat
  for you!
LAST-MODIFIED:20260420T124441
LOCATION:Lazy Dog\, 20030 NW Fwy.\, Houston\, TX\, 77065
SUMMARY:Lunch Bunch
URL;VALUE=URI:https://www.click2celebrate.com/events/lunch-bunch--96/2026-0
 5-06
ATTACH;FILENAME=Lunch Bunch 1st Wed website.png;FMTTYPE=image/png:https://d
 q5pwpg1q8ru0.cloudfront.net/2026/04/20/17/44/41/65292a00-2c03-4a7a-91c4-32
 bea7dbe74d/Lunch%20Bunch%201st%20Wed%20website.png
END:VEVENT
END:VCALENDAR
