BEGIN:VCALENDAR
VERSION:2.0
PRODID:icalendar-ruby
CALSCALE:GREGORIAN
METHOD:PUBLISH
BEGIN:VEVENT
DTSTAMP:20260424T145344Z
UID:97-768177@click2celebrate.com
DTSTART:20260516T150000Z
DTEND:20260516T170000Z
CLASS:PUBLIC
CREATED:20260420T124800
DESCRIPTION:Calling all men! Gather at Celebration for coffee (or other non
 -alcoholic beverages) and conversation on Saturday\, May 16 from 10 AM - n
 oon.
LAST-MODIFIED:20260420T124800
LOCATION:16215 Prairie Lea St.\, Cypress\, TX 77429
SUMMARY:Men's Group
URL;VALUE=URI:https://www.click2celebrate.com/events/mens-group--97/2026-05
 -16
ATTACH;FILENAME=MensGroup.png;FMTTYPE=image/png:https://dq5pwpg1q8ru0.cloud
 front.net/2026/04/20/17/48/00/09ad936c-2e91-436f-a079-7355f06c409c/MensGro
 up.png
END:VEVENT
END:VCALENDAR
