BEGIN:VCALENDAR
VERSION:2.0
PRODID:icalendar-ruby
CALSCALE:GREGORIAN
METHOD:PUBLISH
BEGIN:VEVENT
DTSTAMP:20260424T145057Z
UID:98-768178@click2celebrate.com
DTSTART:20260605T230000Z
DTEND:20260606T020000Z
CLASS:PUBLIC
CREATED:20260420T125031
DESCRIPTION:Mark your calendar now for a pool party and movie night on Frid
 ay\, June 5 from 6 - 9 PM at the Saunders’. Kick off summer with this fu
 n intergenerational fellowship event! Bring a snack or drink to share and 
 your swimsuit and towel if you want to swim. Movie details coming soon.\nT
 alk to Sammi or James at church or email info@click2celebrate.com if you n
 eed their address.
LAST-MODIFIED:20260420T125031
LOCATION:Saunders' house
SUMMARY:Movie Night and Pool Party
URL;VALUE=URI:https://www.click2celebrate.com/events/movie-night-and-pool-p
 arty/2026-06-05
ATTACH;FILENAME="poolparty6:5:26.png";FMTTYPE=image/png:https://dq5pwpg1q8r
 u0.cloudfront.net/2026/04/20/17/50/31/9757cc7f-4ec4-4c9d-b388-6379b79c8bc4
 /poolparty6:5:26.png
END:VEVENT
END:VCALENDAR
